BEGIN:VCALENDAR
VERSION:2.0
PRODID:-//Freshwater Coast Community Foundation - ECPv6.15.17.1//NONSGML v1.0//EN
CALSCALE:GREGORIAN
METHOD:PUBLISH
X-WR-CALNAME:Freshwater Coast Community Foundation
X-ORIGINAL-URL:https://freshwatercoastfoundation.org
X-WR-CALDESC:Events for Freshwater Coast Community Foundation
REFRESH-INTERVAL;VALUE=DURATION:PT1H
X-Robots-Tag:noindex
X-PUBLISHED-TTL:PT1H
BEGIN:VTIMEZONE
TZID:America/New_York
BEGIN:DAYLIGHT
TZOFFSETFROM:-0500
TZOFFSETTO:-0400
TZNAME:EDT
DTSTART:20250309T070000
END:DAYLIGHT
BEGIN:STANDARD
TZOFFSETFROM:-0400
TZOFFSETTO:-0500
TZNAME:EST
DTSTART:20251102T060000
END:STANDARD
BEGIN:DAYLIGHT
TZOFFSETFROM:-0500
TZOFFSETTO:-0400
TZNAME:EDT
DTSTART:20260308T070000
END:DAYLIGHT
BEGIN:STANDARD
TZOFFSETFROM:-0400
TZOFFSETTO:-0500
TZNAME:EST
DTSTART:20261101T060000
END:STANDARD
BEGIN:DAYLIGHT
TZOFFSETFROM:-0500
TZOFFSETTO:-0400
TZNAME:EDT
DTSTART:20270314T070000
END:DAYLIGHT
BEGIN:STANDARD
TZOFFSETFROM:-0400
TZOFFSETTO:-0500
TZNAME:EST
DTSTART:20271107T060000
END:STANDARD
END:VTIMEZONE
BEGIN:VEVENT
DTSTART;TZID=America/New_York:20260421T153000
DTEND;TZID=America/New_York:20260421T160000
DTSTAMP:20260421T021106
CREATED:20260224T202634Z
LAST-MODIFIED:20260224T202655Z
UID:2578-1776785400-1776787200@freshwatercoastfoundation.org
SUMMARY:D.E.A.R. Reduce\, Reuse\, Recycle
DESCRIPTION:Eco-friendly Drop Everything and Read celebration to read about everyday items that can become something new through creativity. 
URL:https://freshwatercoastfoundation.org/event/dear-reduce-reuse-recycle-330/
LOCATION:Agnew Branch Library\, 429 W Main St\, Donalds\, 29638\, United States
CATEGORIES:Drop Everything And Read
ATTACH;FMTTYPE=image/png:https://freshwatercoastfoundation.org/wp-content/uploads/2026/02/Untitled-99.png
ORGANIZER;CN="Lena Miller":MAILTO:Lena.Miller.FCCF@wctel.net
END:VEVENT
BEGIN:VEVENT
DTSTART;TZID=America/New_York:20260421T160000
DTEND;TZID=America/New_York:20260421T163000
DTSTAMP:20260421T021106
CREATED:20260224T201938Z
LAST-MODIFIED:20260224T202605Z
UID:2574-1776787200-1776789000@freshwatercoastfoundation.org
SUMMARY:D.E.A.R. Reduce\, Reuse\, Recycle
DESCRIPTION:Eco-friendly Drop Everything and Read celebration to read about everyday items that can become something new through creativity. 
URL:https://freshwatercoastfoundation.org/event/dear-reduce-reuse-recycle/
LOCATION:Calhoun Falls Library\, 409 N Tugaloo Street\, CALHOUN FALLS\, SC\, 29628\, United States
CATEGORIES:Drop Everything And Read
ATTACH;FMTTYPE=image/png:https://freshwatercoastfoundation.org/wp-content/uploads/2026/02/Untitled-99.png
ORGANIZER;CN="Lena Miller":MAILTO:Lena.Miller.FCCF@wctel.net
END:VEVENT
END:VCALENDAR