BEGIN:VCALENDAR
VERSION:2.0
PRODID:-//Freshwater Coast Community Foundation - ECPv6.15.17.1//NONSGML v1.0//EN
CALSCALE:GREGORIAN
METHOD:PUBLISH
X-WR-CALNAME:Freshwater Coast Community Foundation
X-ORIGINAL-URL:https://freshwatercoastfoundation.org
X-WR-CALDESC:Events for Freshwater Coast Community Foundation
REFRESH-INTERVAL;VALUE=DURATION:PT1H
X-Robots-Tag:noindex
X-PUBLISHED-TTL:PT1H
BEGIN:VTIMEZONE
TZID:America/New_York
BEGIN:DAYLIGHT
TZOFFSETFROM:-0500
TZOFFSETTO:-0400
TZNAME:EDT
DTSTART:20250309T070000
END:DAYLIGHT
BEGIN:STANDARD
TZOFFSETFROM:-0400
TZOFFSETTO:-0500
TZNAME:EST
DTSTART:20251102T060000
END:STANDARD
BEGIN:DAYLIGHT
TZOFFSETFROM:-0500
TZOFFSETTO:-0400
TZNAME:EDT
DTSTART:20260308T070000
END:DAYLIGHT
BEGIN:STANDARD
TZOFFSETFROM:-0400
TZOFFSETTO:-0500
TZNAME:EST
DTSTART:20261101T060000
END:STANDARD
BEGIN:DAYLIGHT
TZOFFSETFROM:-0500
TZOFFSETTO:-0400
TZNAME:EDT
DTSTART:20270314T070000
END:DAYLIGHT
BEGIN:STANDARD
TZOFFSETFROM:-0400
TZOFFSETTO:-0500
TZNAME:EST
DTSTART:20271107T060000
END:STANDARD
END:VTIMEZONE
BEGIN:VEVENT
DTSTART;TZID=America/New_York:20260422T103000
DTEND;TZID=America/New_York:20260422T110000
DTSTAMP:20260422T021415
CREATED:20260224T202727Z
LAST-MODIFIED:20260224T202758Z
UID:2581-1776853800-1776855600@freshwatercoastfoundation.org
SUMMARY:D.E.A.R. Reduce\, Reuse\, Recycle
DESCRIPTION:Eco-friendly Drop Everything and Read celebration to read about everyday items that can become something new through creativity. 
URL:https://freshwatercoastfoundation.org/event/dear-reduce-reuse-recycle-april-22/
LOCATION:Abbeville County Library\, 1407 N Main St\, Abbeville\, 29620\, United States
CATEGORIES:Drop Everything And Read
ATTACH;FMTTYPE=image/png:https://freshwatercoastfoundation.org/wp-content/uploads/2026/02/Untitled-99.png
ORGANIZER;CN="Lena Miller":MAILTO:Lena.Miller.FCCF@wctel.net
END:VEVENT
BEGIN:VEVENT
DTSTART;TZID=America/New_York:20260422T153000
DTEND;TZID=America/New_York:20260422T160000
DTSTAMP:20260422T021415
CREATED:20260224T202825Z
LAST-MODIFIED:20260224T202846Z
UID:2584-1776871800-1776873600@freshwatercoastfoundation.org
SUMMARY:D.E.A.R. Reduce\, Reuse\, Recycle
DESCRIPTION:Eco-friendly Drop Everything and Read celebration to read about everyday items that can become something new through creativity. 
URL:https://freshwatercoastfoundation.org/event/dear-reduce-reuse-recycle-april-22-330/
LOCATION:Abbeville County Library\, 1407 N Main St\, Abbeville\, 29620\, United States
CATEGORIES:Drop Everything And Read
ATTACH;FMTTYPE=image/png:https://freshwatercoastfoundation.org/wp-content/uploads/2026/02/Untitled-99.png
ORGANIZER;CN="Lena Miller":MAILTO:Lena.Miller.FCCF@wctel.net
END:VEVENT
BEGIN:VEVENT
DTSTART;TZID=America/New_York:20260422T170000
DTEND;TZID=America/New_York:20260422T183000
DTSTAMP:20260422T021415
CREATED:20260224T202917Z
LAST-MODIFIED:20260224T203107Z
UID:2587-1776877200-1776882600@freshwatercoastfoundation.org
SUMMARY:D.E.A.R. Barnyard Bash
DESCRIPTION:A cheerful\, down-on-the-farm celebration of reading\, featuring a hayride\, farm-related stories\, and activities. 
URL:https://freshwatercoastfoundation.org/event/dear-barnyard-bash-april-22/
LOCATION:SC Governor’s School for Agriculture at John de la Howe\, 192 Gettys Rd\, McCormick\, SC\, 29835\, United States
CATEGORIES:Drop Everything And Read
ATTACH;FMTTYPE=image/png:https://freshwatercoastfoundation.org/wp-content/uploads/2026/02/Untitled-93.png
ORGANIZER;CN="Lena Miller":MAILTO:Lena.Miller.FCCF@wctel.net
END:VEVENT
END:VCALENDAR